BEGIN:VCALENDAR
VERSION:2.0
PRODID:-//Point-Alpha Gemeinde Rasdorf - ECPv6.15.20//NONSGML v1.0//EN
CALSCALE:GREGORIAN
METHOD:PUBLISH
X-ORIGINAL-URL:https://www.rasdorf.de
X-WR-CALDESC:Veranstaltungen für Point-Alpha Gemeinde Rasdorf
REFRESH-INTERVAL;VALUE=DURATION:PT1H
X-Robots-Tag:noindex
X-PUBLISHED-TTL:PT1H
BEGIN:VTIMEZONE
TZID:Europe/Berlin
BEGIN:DAYLIGHT
TZOFFSETFROM:+0100
TZOFFSETTO:+0200
TZNAME:CEST
DTSTART:20250330T010000
END:DAYLIGHT
BEGIN:STANDARD
TZOFFSETFROM:+0200
TZOFFSETTO:+0100
TZNAME:CET
DTSTART:20251026T010000
END:STANDARD
BEGIN:DAYLIGHT
TZOFFSETFROM:+0100
TZOFFSETTO:+0200
TZNAME:CEST
DTSTART:20260329T010000
END:DAYLIGHT
BEGIN:STANDARD
TZOFFSETFROM:+0200
TZOFFSETTO:+0100
TZNAME:CET
DTSTART:20261025T010000
END:STANDARD
BEGIN:DAYLIGHT
TZOFFSETFROM:+0100
TZOFFSETTO:+0200
TZNAME:CEST
DTSTART:20270328T010000
END:DAYLIGHT
BEGIN:STANDARD
TZOFFSETFROM:+0200
TZOFFSETTO:+0100
TZNAME:CET
DTSTART:20271031T010000
END:STANDARD
END:VTIMEZONE
BEGIN:VEVENT
DTSTART;TZID=Europe/Berlin:20260510T140000
DTEND;TZID=Europe/Berlin:20260510T153000
DTSTAMP:20260421T160915
CREATED:20251202T113330Z
LAST-MODIFIED:20251202T113330Z
UID:10000273-1778421600-1778427000@www.rasdorf.de
SUMMARY:Bittprozession zum Kreuz unterhalb des Gehilfersberg
DESCRIPTION:
URL:https://www.rasdorf.de/event/bittprozession-zum-kreuz-unterhalb-des-gehilfersberg/
LOCATION:Rasdorf\, Rasdorf\, 36169
END:VEVENT
BEGIN:VEVENT
DTSTART;TZID=Europe/Berlin:20260511T183000
DTEND;TZID=Europe/Berlin:20260511T200000
DTSTAMP:20260421T160915
CREATED:20251202T113405Z
LAST-MODIFIED:20251202T113405Z
UID:10000274-1778524200-1778529600@www.rasdorf.de
SUMMARY:Bittprozession zur letzten Kreuzwegstation
DESCRIPTION:
URL:https://www.rasdorf.de/event/bittprozession-zur-letzten-kreuzwegstation/
LOCATION:Point Alpha
END:VEVENT
BEGIN:VEVENT
DTSTART;TZID=Europe/Berlin:20260512T181500
DTEND;TZID=Europe/Berlin:20260512T193000
DTSTAMP:20260421T160915
CREATED:20251202T113446Z
LAST-MODIFIED:20251202T113446Z
UID:10000275-1778609700-1778614200@www.rasdorf.de
SUMMARY:Sternprozession zum Gehilfersberg
DESCRIPTION:
URL:https://www.rasdorf.de/event/sternprozession-zum-gehilfersberg/
LOCATION:Rasdorf\, Rasdorf\, 36169
END:VEVENT
BEGIN:VEVENT
DTSTART;TZID=Europe/Berlin:20260513T190000
DTEND;TZID=Europe/Berlin:20260513T203000
DTSTAMP:20260421T160915
CREATED:20251202T113519Z
LAST-MODIFIED:20251202T113519Z
UID:10000276-1778698800-1778704200@www.rasdorf.de
SUMMARY:Bittprozession zum Friedhof
DESCRIPTION:
URL:https://www.rasdorf.de/event/bittprozession-zum-friedhof/
LOCATION:Rasdorf\, Rasdorf\, 36169
END:VEVENT
BEGIN:VEVENT
DTSTART;TZID=Europe/Berlin:20260514T090000
DTEND;TZID=Europe/Berlin:20260514T110000
DTSTAMP:20260421T160915
CREATED:20251202T113732Z
LAST-MODIFIED:20251202T113732Z
UID:10000278-1778749200-1778756400@www.rasdorf.de
SUMMARY:Open Air Gottesdienst\, anschl. Flurprozession
DESCRIPTION:
URL:https://www.rasdorf.de/event/open-air-gottesdienst-anschl-flurprozession/
LOCATION:Rasdorf\, Rasdorf\, 36169
END:VEVENT
BEGIN:VEVENT
DTSTART;TZID=Europe/Berlin:20260515T190000
DTEND;TZID=Europe/Berlin:20260523T200000
DTSTAMP:20260421T160915
CREATED:20251202T114153Z
LAST-MODIFIED:20251202T114153Z
UID:10000280-1778871600-1779566400@www.rasdorf.de
SUMMARY:Pfingstnovene in Rasdorf\, Grüsselbach und Setzelbach
DESCRIPTION:
URL:https://www.rasdorf.de/event/pfingstnovene-in-rasdorf-gruesselbach-und-setzelbach/
END:VEVENT
BEGIN:VEVENT
DTSTART;TZID=Europe/Berlin:20260525T100000
DTEND;TZID=Europe/Berlin:20260525T113000
DTSTAMP:20260421T160915
CREATED:20251202T114257Z
LAST-MODIFIED:20251202T114257Z
UID:10000281-1779703200-1779708600@www.rasdorf.de
SUMMARY:Familiengottesdienst am Pfingstmontag
DESCRIPTION:
URL:https://www.rasdorf.de/event/familiengottesdienst-am-pfingstmontag/
LOCATION:Gehilfersbergkapelle
END:VEVENT
BEGIN:VEVENT
DTSTART;TZID=Europe/Berlin:20260604T090000
DTEND;TZID=Europe/Berlin:20260604T103000
DTSTAMP:20260421T160915
CREATED:20251202T114433Z
LAST-MODIFIED:20251202T114433Z
UID:10000283-1780563600-1780569000@www.rasdorf.de
SUMMARY:Open Air Gottesdienst zu Fronleichnam
DESCRIPTION:
URL:https://www.rasdorf.de/event/open-air-gottesdienst-zu-fronleichnam/
LOCATION:Rasdorf\, Rasdorf\, 36169
END:VEVENT
BEGIN:VEVENT
DTSTART;TZID=Europe/Berlin:20260815T190000
DTEND;TZID=Europe/Berlin:20260815T203000
DTSTAMP:20260421T160915
CREATED:20251202T114842Z
LAST-MODIFIED:20251202T114842Z
UID:10000289-1786820400-1786825800@www.rasdorf.de
SUMMARY:Familiengottesdienst mit Kräuterweihe
DESCRIPTION:
URL:https://www.rasdorf.de/event/familiengottesdienst-mit-kraeuterweihe/
LOCATION:Gehilfersberg\, Rasdorf\, Hessen\, 36169
END:VEVENT
BEGIN:VEVENT
DTSTART;TZID=Europe/Berlin:20261020T103000
DTEND;TZID=Europe/Berlin:20261020T120000
DTSTAMP:20260421T160915
CREATED:20251202T115046Z
LAST-MODIFIED:20251202T115046Z
UID:10000292-1792492200-1792497600@www.rasdorf.de
SUMMARY:Abschluss Wallfahrtsjahr Gehilfersberg
DESCRIPTION:
URL:https://www.rasdorf.de/event/abschluss-wallfahrtsjahr-gehilfersberg/
LOCATION:Gehilfersbergkapelle
END:VEVENT
BEGIN:VEVENT
DTSTART;TZID=Europe/Berlin:20261101T140000
DTEND;TZID=Europe/Berlin:20261101T150000
DTSTAMP:20260421T160915
CREATED:20251202T115229Z
LAST-MODIFIED:20251202T115229Z
UID:10000294-1793541600-1793545200@www.rasdorf.de
SUMMARY:Gräbersegnung in Rasdorf\, Grüsselbach und Setzelbach
DESCRIPTION:
URL:https://www.rasdorf.de/event/graebersegnung-in-rasdorf-gruesselbach-und-setzelbach/
END:VEVENT
BEGIN:VEVENT
DTSTART;TZID=Europe/Berlin:20261119T180000
DTEND;TZID=Europe/Berlin:20261119T190000
DTSTAMP:20260421T160915
CREATED:20251202T115338Z
LAST-MODIFIED:20251202T115338Z
UID:10000295-1795111200-1795114800@www.rasdorf.de
SUMMARY:Ewiges Gebet
DESCRIPTION:
URL:https://www.rasdorf.de/event/ewiges-gebet/
LOCATION:Rasdorf\, Rasdorf\, 36169
END:VEVENT
BEGIN:VEVENT
DTSTART;TZID=Europe/Berlin:20261129T170000
DTEND;TZID=Europe/Berlin:20261129T173000
DTSTAMP:20260421T160915
CREATED:20251202T115802Z
LAST-MODIFIED:20251202T115802Z
UID:10000298-1795971600-1795973400@www.rasdorf.de
SUMMARY:Eröffnung Rasdorfer Adventsweg
DESCRIPTION:
URL:https://www.rasdorf.de/event/eroeffnung-rasdorfer-adventsweg/
LOCATION:Am Anger\, Am Anger\, Rasdorf\, Hessen\, 36169\, Deutschland
END:VEVENT
END:VCALENDAR